{
 "currentVersion": 10.91,
 "serviceDescription": "",
 "mapName": "Layers",
 "description": "",
 "copyrightText": "",
 "supportsDynamicLayers": true,
 "layers": [],
 "tables": [],
 "spatialReference": {
  "wkid": 2039,
  "latestWkid": 2039
 },
 "singleFusedMapCache": true,
 "tileInfo": {
  "rows": 256,
  "cols": 256,
  "dpi": 96,
  "format": "JPEG",
  "compressionQuality": 75,
  "origin": {
   "x": -5403700,
   "y": 7116700
  },
  "spatialReference": {
   "wkid": 2039,
   "latestWkid": 2039
  },
  "lods": [
   {
    "level": 0,
    "resolution": 39.687579375158755,
    "scale": 150000
   },
   {
    "level": 1,
    "resolution": 19.843789687579378,
    "scale": 75000
   },
   {
    "level": 2,
    "resolution": 11.906273812547626,
    "scale": 45000
   },
   {
    "level": 3,
    "resolution": 7.9375158750317505,
    "scale": 30000
   },
   {
    "level": 4,
    "resolution": 2.6458386250105836,
    "scale": 10000
   },
   {
    "level": 5,
    "resolution": 1.3229193125052918,
    "scale": 5000
   },
   {
    "level": 6,
    "resolution": 0.6614596562526459,
    "scale": 2500
   },
   {
    "level": 7,
    "resolution": 0.26458386250105836,
    "scale": 1000
   },
   {
    "level": 8,
    "resolution": 0.13229193125052918,
    "scale": 500
   },
   {
    "level": 9,
    "resolution": 0.06614596562526459,
    "scale": 250
   }
  ]
 },
 "initialExtent": {
  "xmin": 160785.97375212424,
  "ymin": 629399.5543286678,
  "xmax": 174451.73025030387,
  "ymax": 640591.4517124625,
  "spatialReference": {
   "wkid": 2039,
   "latestWkid": 2039
  }
 },
 "fullExtent": {
  "xmin": "NaN",
  "ymin": "NaN",
  "xmax": "NaN",
  "ymax": "NaN",
  "spatialReference": {
   "wkid": 2039,
   "latestWkid": 2039
  }
 },
 "minScale": 150000,
 "maxScale": 250,
 "minLOD": 0,
 "maxLOD": 9,
 "units": "esriMeters",
 "supportedImageFormatTypes": "PNG32,PNG24,PNG,JPG,DIB,TIFF,EMF,PS,PDF,GIF,SVG,SVGZ,BMP",
 "documentInfo": {
  "Title": "",
  "Author": "",
  "Comments": "",
  "Subject": "",
  "Category": "",
  "AntialiasingMode": "None",
  "TextAntialiasingMode": "Force",
  "Keywords": ""
 },
 "capabilities": "Map,Query,Data",
 "supportedQueryFormats": "JSON, geoJSON",
 "exportTilesAllowed": false,
 "referenceScale": 0,
 "datumTransformations": [
  {
   "geoTransforms": [
    {
     "wkid": 108001,
     "latestWkid": 1241,
     "transformForward": true,
     "name": "NAD_1927_To_NAD_1983_NADCON"
    }
   ]
  },
  {
   "geoTransforms": [
    {
     "wkid": 108001,
     "latestWkid": 1241,
     "transformForward": false,
     "name": "NAD_1927_To_NAD_1983_NADCON"
    }
   ]
  }
 ],
 "supportsDatumTransformation": true,
 "maxRecordCount": 1000,
 "maxImageHeight": 4096,
 "maxImageWidth": 4096,
 "supportedExtensions": "",
 "serviceItemId": "939418fc53aa46d88e1a22edaec17d15"
}
