{
 "currentVersion": 10.91,
 "serviceDescription": "",
 "mapName": "Layers",
 "description": "",
 "copyrightText": "",
 "supportsDynamicLayers": true,
 "layers": [
  {
   "id": 0,
   "name": "כללי",
   "parentLayerId": -1,
   "defaultVisibility": true,
   "subLayerIds": [
    1,
    2,
    3,
    4,
    5,
    6
   ],
   "minScale": 0,
   "maxScale": 0,
   "type": "Group Layer"
  },
  {
   "id": 1,
   "name": "מיזרקה",
   "parentLayerId": 0,
   "defaultVisibility": true,
   "subLayerIds": null,
   "minScale": 2500,
   "maxScale": 0,
   "type": "Feature Layer",
   "geometryType": "esriGeometryPoint"
  },
  {
   "id": 2,
   "name": "פסל",
   "parentLayerId": 0,
   "defaultVisibility": true,
   "subLayerIds": null,
   "minScale": 2500,
   "maxScale": 0,
   "type": "Feature Layer",
   "geometryType": "esriGeometryPoint"
  },
  {
   "id": 3,
   "name": "אנטנות סלולאר",
   "parentLayerId": 0,
   "defaultVisibility": true,
   "subLayerIds": null,
   "minScale": 2500,
   "maxScale": 0,
   "type": "Feature Layer",
   "geometryType": "esriGeometryPoint"
  },
  {
   "id": 4,
   "name": "רמזורים",
   "parentLayerId": 0,
   "defaultVisibility": true,
   "subLayerIds": null,
   "minScale": 2500,
   "maxScale": 0,
   "type": "Feature Layer",
   "geometryType": "esriGeometryPoint"
  },
  {
   "id": 5,
   "name": "עמודי מאור",
   "parentLayerId": 0,
   "defaultVisibility": true,
   "subLayerIds": null,
   "minScale": 2500,
   "maxScale": 0,
   "type": "Feature Layer",
   "geometryType": "esriGeometryPoint"
  },
  {
   "id": 6,
   "name": "עמודים ואנטנות",
   "parentLayerId": 0,
   "defaultVisibility": true,
   "subLayerIds": null,
   "minScale": 2500,
   "maxScale": 0,
   "type": "Feature Layer",
   "geometryType": "esriGeometryPoint"
  },
  {
   "id": 9,
   "name": "מספרי בתים",
   "parentLayerId": -1,
   "defaultVisibility": true,
   "subLayerIds": null,
   "minScale": 0,
   "maxScale": 0,
   "type": "Feature Layer",
   "geometryType": "esriGeometryPoint"
  },
  {
   "id": 10,
   "name": "מספרי בתים רוזטות מבנים",
   "parentLayerId": -1,
   "defaultVisibility": true,
   "subLayerIds": null,
   "minScale": 1000,
   "maxScale": 0,
   "type": "Feature Layer",
   "geometryType": "esriGeometryPoint"
  },
  {
   "id": 12,
   "name": "צמחיה",
   "parentLayerId": -1,
   "defaultVisibility": true,
   "subLayerIds": null,
   "minScale": 2500,
   "maxScale": 0,
   "type": "Feature Layer",
   "geometryType": "esriGeometryPolyline"
  },
  {
   "id": 13,
   "name": "מוסדות ציבור",
   "parentLayerId": -1,
   "defaultVisibility": true,
   "subLayerIds": null,
   "minScale": 2500,
   "maxScale": 0,
   "type": "Feature Layer",
   "geometryType": "esriGeometryPoint"
  },
  {
   "id": 14,
   "name": "מוסדות חינוך",
   "parentLayerId": -1,
   "defaultVisibility": true,
   "subLayerIds": [
    15,
    16,
    17,
    18,
    19,
    20
   ],
   "minScale": 0,
   "maxScale": 0,
   "type": "Group Layer"
  },
  {
   "id": 15,
   "name": "בתי ספר על יסודיים",
   "parentLayerId": 14,
   "defaultVisibility": true,
   "subLayerIds": null,
   "minScale": 5000,
   "maxScale": 0,
   "type": "Feature Layer",
   "geometryType": "esriGeometryPoint"
  },
  {
   "id": 16,
   "name": "בתי ספר יסודיים",
   "parentLayerId": 14,
   "defaultVisibility": true,
   "subLayerIds": null,
   "minScale": 5000,
   "maxScale": 0,
   "type": "Feature Layer",
   "geometryType": "esriGeometryPoint"
  },
  {
   "id": 17,
   "name": "גני ילדים",
   "parentLayerId": 14,
   "defaultVisibility": true,
   "subLayerIds": null,
   "minScale": 5000,
   "maxScale": 0,
   "type": "Feature Layer",
   "geometryType": "esriGeometryPoint"
  },
  {
   "id": 18,
   "name": "מעונות יום ",
   "parentLayerId": 14,
   "defaultVisibility": true,
   "subLayerIds": null,
   "minScale": 5000,
   "maxScale": 0,
   "type": "Feature Layer",
   "geometryType": "esriGeometryPoint"
  },
  {
   "id": 19,
   "name": "משפחתונים",
   "parentLayerId": 14,
   "defaultVisibility": false,
   "subLayerIds": null,
   "minScale": 25000,
   "maxScale": 0,
   "type": "Feature Layer",
   "geometryType": "esriGeometryPoint"
  },
  {
   "id": 20,
   "name": "חינוך מיוחד",
   "parentLayerId": 14,
   "defaultVisibility": false,
   "subLayerIds": null,
   "minScale": 64000,
   "maxScale": 0,
   "type": "Feature Layer",
   "geometryType": "esriGeometryPoint"
  },
  {
   "id": 21,
   "name": "גדרות",
   "parentLayerId": -1,
   "defaultVisibility": true,
   "subLayerIds": null,
   "minScale": 5000,
   "maxScale": 0,
   "type": "Feature Layer",
   "geometryType": "esriGeometryPolyline"
  },
  {
   "id": 22,
   "name": "רחובות",
   "parentLayerId": -1,
   "defaultVisibility": true,
   "subLayerIds": [
    23,
    24,
    25,
    26,
    27,
    28,
    29
   ],
   "minScale": 0,
   "maxScale": 0,
   "type": "Group Layer"
  },
  {
   "id": 23,
   "name": "כיכרות",
   "parentLayerId": 22,
   "defaultVisibility": true,
   "subLayerIds": null,
   "minScale": 0,
   "maxScale": 0,
   "type": "Feature Layer",
   "geometryType": "esriGeometryMultipoint"
  },
  {
   "id": 24,
   "name": "שמות רחובות",
   "parentLayerId": 22,
   "defaultVisibility": true,
   "subLayerIds": null,
   "minScale": 0,
   "maxScale": 0,
   "type": "Feature Layer",
   "geometryType": "esriGeometryPolyline"
  },
  {
   "id": 25,
   "name": "דרכים",
   "parentLayerId": 22,
   "defaultVisibility": true,
   "subLayerIds": null,
   "minScale": 6000,
   "maxScale": 0,
   "type": "Feature Layer",
   "geometryType": "esriGeometryPolyline"
  },
  {
   "id": 26,
   "name": "צירי רחובות מתוכננים",
   "parentLayerId": 22,
   "defaultVisibility": true,
   "subLayerIds": null,
   "minScale": 10000,
   "maxScale": 0,
   "type": "Feature Layer",
   "geometryType": "esriGeometryPolyline"
  },
  {
   "id": 27,
   "name": "צירי רחובות עד 10000",
   "parentLayerId": 22,
   "defaultVisibility": true,
   "subLayerIds": null,
   "minScale": 150000,
   "maxScale": 10001,
   "type": "Feature Layer",
   "geometryType": "esriGeometryPolyline"
  },
  {
   "id": 28,
   "name": "צירי רחובות",
   "parentLayerId": 22,
   "defaultVisibility": true,
   "subLayerIds": null,
   "minScale": 10000,
   "maxScale": 6001,
   "type": "Feature Layer",
   "geometryType": "esriGeometryPolyline"
  },
  {
   "id": 30,
   "name": "מיבנים - גגות וקווי הפרדה",
   "parentLayerId": -1,
   "defaultVisibility": true,
   "subLayerIds": null,
   "minScale": 2500,
   "maxScale": 0,
   "type": "Feature Layer",
   "geometryType": "esriGeometryPolyline"
  },
  {
   "id": 31,
   "name": "מבנים פוליגונליים בשקיפות",
   "parentLayerId": -1,
   "defaultVisibility": true,
   "subLayerIds": null,
   "minScale": 10000,
   "maxScale": 0,
   "type": "Feature Layer",
   "geometryType": "esriGeometryPolygon"
  },
  {
   "id": 32,
   "name": "גבולות",
   "parentLayerId": -1,
   "defaultVisibility": true,
   "subLayerIds": [
    33,
    34,
    35,
    36
   ],
   "minScale": 0,
   "maxScale": 0,
   "type": "Group Layer"
  },
  {
   "id": 33,
   "name": "רובעים",
   "parentLayerId": 32,
   "defaultVisibility": true,
   "subLayerIds": null,
   "minScale": 0,
   "maxScale": 0,
   "type": "Feature Layer",
   "geometryType": "esriGeometryPolygon"
  },
  {
   "id": 38,
   "name": "הידרולוגיה",
   "parentLayerId": -1,
   "defaultVisibility": true,
   "subLayerIds": [
    39,
    40,
    41,
    42,
    43,
    44,
    45
   ],
   "minScale": 0,
   "maxScale": 0,
   "type": "Group Layer"
  },
  {
   "id": 42,
   "name": "תעלה מוסדרת",
   "parentLayerId": 38,
   "defaultVisibility": true,
   "subLayerIds": null,
   "minScale": 10000,
   "maxScale": 0,
   "type": "Feature Layer",
   "geometryType": "esriGeometryPolyline"
  },
  {
   "id": 43,
   "name": "בריכות ומאגרי מים",
   "parentLayerId": 38,
   "defaultVisibility": true,
   "subLayerIds": null,
   "minScale": 2500,
   "maxScale": 0,
   "type": "Feature Layer",
   "geometryType": "esriGeometryPolyline"
  }
 ],
 "tables": [],
 "spatialReference": {
  "wkid": 2039,
  "latestWkid": 2039
 },
 "singleFusedMapCache": true,
 "tileInfo": {
  "rows": 256,
  "cols": 256,
  "dpi": 96,
  "format": "PNG32",
  "compressionQuality": 0,
  "origin": {
   "x": -5403700,
   "y": 7116700
  },
  "spatialReference": {
   "wkid": 2039,
   "latestWkid": 2039
  },
  "lods": [
   {
    "level": 0,
    "resolution": 39.687579375158755,
    "scale": 150000
   },
   {
    "level": 1,
    "resolution": 19.843789687579378,
    "scale": 75000
   },
   {
    "level": 2,
    "resolution": 11.906273812547626,
    "scale": 45000
   },
   {
    "level": 3,
    "resolution": 7.9375158750317505,
    "scale": 30000
   },
   {
    "level": 4,
    "resolution": 2.6458386250105836,
    "scale": 10000
   },
   {
    "level": 5,
    "resolution": 1.3229193125052918,
    "scale": 5000
   },
   {
    "level": 6,
    "resolution": 0.6614596562526459,
    "scale": 2500
   },
   {
    "level": 7,
    "resolution": 0.26458386250105836,
    "scale": 1000
   },
   {
    "level": 8,
    "resolution": 0.13229193125052918,
    "scale": 500
   },
   {
    "level": 9,
    "resolution": 0.06614596562526459,
    "scale": 250
   }
  ]
 },
 "initialExtent": {
  "xmin": 159803.31286593934,
  "ymin": 633644.1983359212,
  "xmax": 177881.0052713243,
  "ymax": 644399.5323465893,
  "spatialReference": {
   "wkid": 2039,
   "latestWkid": 2039
  }
 },
 "fullExtent": {
  "xmin": -5403700,
  "ymin": -12887700,
  "xmax": 174188.62689999957,
  "ymax": 641748.6074000001,
  "spatialReference": {
   "wkid": 2039,
   "latestWkid": 2039
  }
 },
 "minScale": 150000,
 "maxScale": 250,
 "minLOD": 0,
 "maxLOD": 9,
 "units": "esriMeters",
 "supportedImageFormatTypes": "PNG32,PNG24,PNG,JPG,DIB,TIFF,EMF,PS,PDF,GIF,SVG,SVGZ,BMP",
 "documentInfo": {
  "Title": "מסלול ישראל יפה",
  "Author": "",
  "Comments": "Background Cache",
  "Subject": "Background Cache",
  "Category": "",
  "AntialiasingMode": "None",
  "TextAntialiasingMode": "Force",
  "Keywords": "פארק הייטק"
 },
 "capabilities": "Map,Query,Data",
 "supportedQueryFormats": "JSON, geoJSON",
 "hasVersionedData": true,
 "exportTilesAllowed": false,
 "referenceScale": 0,
 "datumTransformations": [
  {
   "geoTransforms": [
    {
     "wkid": 108001,
     "latestWkid": 1241,
     "transformForward": true,
     "name": "NAD_1927_To_NAD_1983_NADCON"
    }
   ]
  },
  {
   "geoTransforms": [
    {
     "wkid": 108001,
     "latestWkid": 1241,
     "transformForward": false,
     "name": "NAD_1927_To_NAD_1983_NADCON"
    }
   ]
  }
 ],
 "supportsDatumTransformation": true,
 "maxRecordCount": 1000,
 "maxImageHeight": 4096,
 "maxImageWidth": 4096,
 "supportedExtensions": "",
 "serviceItemId": "557897614454445c9f1d3d4d9af36627"
}
